BEGIN:VCALENDAR
VERSION:2.0
PRODID:-//wp-events-plugin.com//7.2.3.1//EN
TZID:America/Chicago
X-WR-TIMEZONE:America/Chicago
BEGIN:VEVENT
UID:55@quincytowncenter.com
DTSTART;TZID=America/Chicago:20230707T160000
DTEND;TZID=America/Chicago:20230707T190000
DTSTAMP:20230706T195225Z
URL:https://quincytowncenter.com/events/toys-for-tots-book-fair/
SUMMARY:Toys for Tots Book Fair
DESCRIPTION:
END:VEVENT
BEGIN:VTIMEZONE
TZID:America/Chicago
X-LIC-LOCATION:America/Chicago
BEGIN:DAYLIGHT
DTSTART:20230312T030000
TZOFFSETFROM:-0600
TZOFFSETTO:-0500
TZNAME:CDT
END:DAYLIGHT
END:VTIMEZONE
END:VCALENDAR